BEGIN:VCALENDAR
VERSION:2.0
PRODID:-//CARTEL - ECPv6.6.0.2//NONSGML v1.0//EN
CALSCALE:GREGORIAN
METHOD:PUBLISH
X-WR-CALNAME:CARTEL
X-ORIGINAL-URL:https://cartel.re
X-WR-CALDESC:évènements pour CARTEL
REFRESH-INTERVAL;VALUE=DURATION:PT1H
X-Robots-Tag:noindex
X-PUBLISHED-TTL:PT1H
BEGIN:VTIMEZONE
TZID:Europe/Paris
BEGIN:DAYLIGHT
TZOFFSETFROM:+0100
TZOFFSETTO:+0200
TZNAME:CEST
DTSTART:20240331T010000
END:DAYLIGHT
BEGIN:STANDARD
TZOFFSETFROM:+0200
TZOFFSETTO:+0100
TZNAME:CET
DTSTART:20241027T010000
END:STANDARD
END:VTIMEZONE
BEGIN:VEVENT
DTSTART;TZID=Europe/Paris:20240928T100000
DTEND;TZID=Europe/Paris:20240929T180000
DTSTAMP:20260414T085414
CREATED:20240901T083356Z
LAST-MODIFIED:20240915T161244Z
UID:78-1727517600-1727632800@cartel.re
SUMMARY:Limou'Jeux Festival des Jeux à Limoges
DESCRIPTION:Plus d’infos sur le Festival ici https://flujfestival.webnode.fr \nRetrouver plusieurs auteurs membres du CARTEL à l’Espace Prototype : retrouvez leurs prototypes présentés et planning en cliquant sur leurs noms : \nFlorent Mignot | Adrien Gatet | Arnaud Dudeffant | Raphael Brunetaud | Kristel | Gilles Lehmann | Lucas Lauliac
URL:https://cartel.re/event/limoujeux-festival-des-jeux-a-limoges/
CATEGORIES:Festival
END:VEVENT
END:VCALENDAR