BEGIN:VCALENDAR
VERSION:2.0
PRODID:-//CARTEL - ECPv6.6.0.2//NONSGML v1.0//EN
CALSCALE:GREGORIAN
METHOD:PUBLISH
X-WR-CALNAME:CARTEL
X-ORIGINAL-URL:https://cartel.re
X-WR-CALDESC:évènements pour CARTEL
REFRESH-INTERVAL;VALUE=DURATION:PT1H
X-Robots-Tag:noindex
X-PUBLISHED-TTL:PT1H
BEGIN:VTIMEZONE
TZID:Europe/Paris
BEGIN:DAYLIGHT
TZOFFSETFROM:+0100
TZOFFSETTO:+0200
TZNAME:CEST
DTSTART:20240331T010000
END:DAYLIGHT
BEGIN:STANDARD
TZOFFSETFROM:+0200
TZOFFSETTO:+0100
TZNAME:CET
DTSTART:20241027T010000
END:STANDARD
END:VTIMEZONE
BEGIN:VEVENT
DTSTART;TZID=Europe/Paris:20240601T140000
DTEND;TZID=Europe/Paris:20240602T180000
DTSTAMP:20260419T222412
CREATED:20240509T073752Z
LAST-MODIFIED:20240509T073752Z
UID:61-1717250400-1717351200@cartel.re
SUMMARY:Fête du Jeu Lagrauliere
DESCRIPTION:
URL:https://cartel.re/event/fete-du-jeu-lagrauliere/
LOCATION:Salle Polyvalente de Lagraulière\, Lagrauliere
CATEGORIES:Festival
END:VEVENT
BEGIN:VEVENT
DTSTART;TZID=Europe/Paris:20240608T140000
DTEND;TZID=Europe/Paris:20240608T170000
DTSTAMP:20260419T222412
CREATED:20240530T091325Z
LAST-MODIFIED:20240530T091325Z
UID:73-1717855200-1717866000@cartel.re
SUMMARY:Tests de 2 Prototypes
DESCRIPTION:Merci de vous inscrire sur vous https://strawpoll.com/QrgebXzjLZp\nLe Proto Grand Mariage est limité à 4 Joueurs nous sommes donc à priori assez nombreux pour 14h : d’autres dates sont possibles…\nVous pouvez vous inscrire pour 15h pour l’autre prototype 😉\nAdresse : rez-de-chaussée du Bâtiment 3 Cité Universitaire La Borie 185 Avenue Albert Thomas \n\nGrand Mariage : 14h\njeu de pli de 2 à 4 joueurs où les valeurs et couleur de coupe vont bouger tout au long des manches…\n\n\nSecrets d’Inssmouth : vers 15h\nproto à identité secrète (4 à 10 ? joueurs) dans un univers Lovecraft
URL:https://cartel.re/event/tests-de-2-prototypes/
LOCATION:La Citadelle (Fac des Sciences)\, Cité Universitaire La Borie 185 Avenue Albert Thomas\, Limoges\, 87100\, France
CATEGORIES:Tests Protos
END:VEVENT
BEGIN:VEVENT
DTSTART;TZID=Europe/Paris:20240616T150000
DTEND;TZID=Europe/Paris:20240616T190000
DTSTAMP:20260419T222412
CREATED:20240529T062430Z
LAST-MODIFIED:20240529T062430Z
UID:69-1718550000-1718564400@cartel.re
SUMMARY:Aprem Proto
DESCRIPTION:N’hésitez pas à envoyer un mail à lantrejeux@gmail.com pour présenter le Proto que vous souhaitez présenter ce jour là (photo y compris) afin d »informer la Populace qui pourrait alors réserver des places pour y jouer (histoire de ne pas se retrouver seulement entre auteurs) \n 
URL:https://cartel.re/event/aprem-proto/
LOCATION:Antre Jeux\, 25 Rue Raspail\, Limoges\, 87000
CATEGORIES:Aprem Proto
END:VEVENT
BEGIN:VEVENT
DTSTART;VALUE=DATE:20240622
DTEND;VALUE=DATE:20240623
DTSTAMP:20260419T222412
CREATED:20240509T193732Z
LAST-MODIFIED:20240509T193732Z
UID:64-1719014400-1719100799@cartel.re
SUMMARY:Felletin'touin 2024
DESCRIPTION:Les jeux envahissent Felletin ! Dans plusieurs lieux du village (la Médiathèque\, le Grand Café\, la Gare\, la Petite Maison Rouge\, la Diamanterie\, la mairie…) venez jouer à des jeux thématiques ! Des jeux pour toutes et tous\, des pôles de jeux de tous niveaux et des jeux abordant des sujets adaptés aux lieux sont au rendez-vous !
URL:https://cartel.re/event/felletintouin-2024/
LOCATION:Felletin\, Felletin
CATEGORIES:Festival
END:VEVENT
END:VCALENDAR