BEGIN:VCALENDAR
VERSION:2.0
PRODID:-//CARTEL - ECPv6.6.0.2//NONSGML v1.0//EN
CALSCALE:GREGORIAN
METHOD:PUBLISH
X-WR-CALNAME:CARTEL
X-ORIGINAL-URL:https://cartel.re
X-WR-CALDESC:évènements pour CARTEL
REFRESH-INTERVAL;VALUE=DURATION:PT1H
X-Robots-Tag:noindex
X-PUBLISHED-TTL:PT1H
BEGIN:VTIMEZONE
TZID:Europe/Paris
BEGIN:DAYLIGHT
TZOFFSETFROM:+0100
TZOFFSETTO:+0200
TZNAME:CEST
DTSTART:20240331T010000
END:DAYLIGHT
BEGIN:STANDARD
TZOFFSETFROM:+0200
TZOFFSETTO:+0100
TZNAME:CET
DTSTART:20241027T010000
END:STANDARD
END:VTIMEZONE
BEGIN:VEVENT
DTSTART;TZID=Europe/Paris:20241013T141500
DTEND;TZID=Europe/Paris:20241013T190000
DTSTAMP:20260419T155830
CREATED:20240929T201020Z
LAST-MODIFIED:20240929T201020Z
UID:189-1728828900-1728846000@cartel.re
SUMMARY:Aprem Proto Octobre 2024
DESCRIPTION:Aprem Proto venez jouer vos Protos ou jouer à ceux d’auteurs locaux 😉
URL:https://cartel.re/event/aprem-proto-octobre-2024/
LOCATION:Antre Jeux\, 25 Rue Raspail\, Limoges\, 87000
CATEGORIES:Aprem Proto
END:VEVENT
BEGIN:VEVENT
DTSTART;TZID=Europe/Paris:20241019T140000
DTEND;TZID=Europe/Paris:20241019T140000
DTSTAMP:20260419T155830
CREATED:20240929T194509Z
LAST-MODIFIED:20240929T194615Z
UID:175-1729346400-1729346400@cartel.re
SUMMARY:24h des Rencontres Ludiques
DESCRIPTION:
URL:https://cartel.re/event/24h-des-rencontres-ludiques/
LOCATION:salle Edouard DETAiLLE\, Rue Détaillé\, limoges\, 87100
CATEGORIES:24H
END:VEVENT
BEGIN:VEVENT
DTSTART;TZID=Europe/Paris:20241025T193000
DTEND;TZID=Europe/Paris:20241025T233000
DTSTAMP:20260419T155830
CREATED:20240929T212144Z
LAST-MODIFIED:20240929T212218Z
UID:192-1729884600-1729899000@cartel.re
SUMMARY:Soirée Proto à Brive
DESCRIPTION:Rencontre joueurs(ses) et auteur(trice)\, chaque mois\, découvrir de nouveaux projets\, faire tester ses idées\, avancer sur ses prototypes. \nProchaine session le vendredi 25 octobre à partir de 19h30 au Briv’yolo Place Molière\, 19100 Brive La Gaillarde \nParking de la Guierle accessible à 50m \nAstuceAuteur : appelez directement le bar pour les informer de votre présence
URL:https://cartel.re/event/soiree-proto-a-brive/
LOCATION:Briv’yolo\, Place Molière\, Brive La Gaillarde\, 19100
CATEGORIES:Soirée Proto
END:VEVENT
END:VCALENDAR