BEGIN:VCALENDAR
VERSION:2.0
PRODID:-//CARTEL - ECPv6.6.0.2//NONSGML v1.0//EN
CALSCALE:GREGORIAN
METHOD:PUBLISH
X-WR-CALNAME:CARTEL
X-ORIGINAL-URL:https://cartel.re
X-WR-CALDESC:évènements pour CARTEL
REFRESH-INTERVAL;VALUE=DURATION:PT1H
X-Robots-Tag:noindex
X-PUBLISHED-TTL:PT1H
BEGIN:VTIMEZONE
TZID:Europe/Paris
BEGIN:DAYLIGHT
TZOFFSETFROM:+0100
TZOFFSETTO:+0200
TZNAME:CEST
DTSTART:20240331T010000
END:DAYLIGHT
BEGIN:STANDARD
TZOFFSETFROM:+0200
TZOFFSETTO:+0100
TZNAME:CET
DTSTART:20241027T010000
END:STANDARD
END:VTIMEZONE
BEGIN:VEVENT
DTSTART;TZID=Europe/Paris:20241116T140000
DTEND;TZID=Europe/Paris:20241117T140000
DTSTAMP:20260419T143010
CREATED:20240929T194927Z
LAST-MODIFIED:20240929T200554Z
UID:179-1731765600-1731852000@cartel.re
SUMMARY:24h de La Citadelle
DESCRIPTION:
URL:https://cartel.re/event/24h-de-la-citadelle/
LOCATION:CALM – Fac de Sciences\, 123 Av. Albert Thomas Bâtiment B\, Limoges\, 87100
CATEGORIES:24H
END:VEVENT
BEGIN:VEVENT
DTSTART;TZID=Europe/Paris:20241116T140000
DTEND;TZID=Europe/Paris:20241117T180000
DTSTAMP:20260419T143010
CREATED:20241003T092318Z
LAST-MODIFIED:20241003T092318Z
UID:203-1731765600-1731866400@cartel.re
SUMMARY:Festival du Jeu de Tulle
DESCRIPTION:
URL:https://cartel.re/event/festival-du-jeu-de-tulle/
LOCATION:Salle de l’Auzelou\, Tulle
CATEGORIES:Festival
END:VEVENT
BEGIN:VEVENT
DTSTART;TZID=Europe/Paris:20241117T140000
DTEND;TZID=Europe/Paris:20241117T190000
DTSTAMP:20260419T143010
CREATED:20241102T105831Z
LAST-MODIFIED:20241102T105831Z
UID:226-1731852000-1731870000@cartel.re
SUMMARY:Aprem Proto Novembre
DESCRIPTION:17 Novembre à l’Antre Jeux 😉
URL:https://cartel.re/event/aprem-proto-novembre/
LOCATION:Antre Jeux\, 25 Rue Raspail\, Limoges\, 87000
CATEGORIES:Aprem Proto
END:VEVENT
END:VCALENDAR